BEGIN:VCALENDAR
VERSION:2.0
PRODID:-//Enoch TBI Center - ECPv6.15.18//NONSGML v1.0//EN
CALSCALE:GREGORIAN
METHOD:PUBLISH
X-WR-CALNAME:Enoch TBI Center
X-ORIGINAL-URL:https://enochtbicenter.org
X-WR-CALDESC:Events for Enoch TBI Center
REFRESH-INTERVAL;VALUE=DURATION:PT1H
X-Robots-Tag:noindex
X-PUBLISHED-TTL:PT1H
BEGIN:VTIMEZONE
TZID:UTC
BEGIN:STANDARD
TZOFFSETFROM:+0000
TZOFFSETTO:+0000
TZNAME:UTC
DTSTART:20210101T000000
END:STANDARD
END:VTIMEZONE
BEGIN:VEVENT
DTSTART;TZID=UTC:20220420T114500
DTEND;TZID=UTC:20220420T143000
DTSTAMP:20260425T145850
CREATED:20220327T153650Z
LAST-MODIFIED:20220327T153650Z
UID:1580-1650455100-1650465000@enochtbicenter.org
SUMMARY:Rusch Community Park
DESCRIPTION:Support Group for Traumatic Brain injuries and Acquired Brain injuries \n  \nNo dropping off your SURVIVORS \nFun for the survivors and caregivers
URL:https://enochtbicenter.org/event/rusch-community-park-6/
LOCATION:Rusch Community Park\, 7801 Auburn Blvd\, Citrus Heights\,\, CA\, 95610
END:VEVENT
END:VCALENDAR