BEGIN:VCALENDAR
VERSION:2.0
PRODID:-//Enoch TBI Center - ECPv6.15.18//NONSGML v1.0//EN
CALSCALE:GREGORIAN
METHOD:PUBLISH
X-ORIGINAL-URL:https://enochtbicenter.org
X-WR-CALDESC:Events for Enoch TBI Center
REFRESH-INTERVAL;VALUE=DURATION:PT1H
X-Robots-Tag:noindex
X-PUBLISHED-TTL:PT1H
BEGIN:VTIMEZONE
TZID:UTC
BEGIN:STANDARD
TZOFFSETFROM:+0000
TZOFFSETTO:+0000
TZNAME:UTC
DTSTART:20210101T000000
END:STANDARD
END:VTIMEZONE
BEGIN:VEVENT
DTSTART;TZID=UTC:20220831T150000
DTEND;TZID=UTC:20220831T170000
DTSTAMP:20260425T022401
CREATED:20220805T025933Z
LAST-MODIFIED:20220830T024952Z
UID:1626-1661958000-1661965200@enochtbicenter.org
SUMMARY:Cinemark Roseville Galleria Mall and XD (Roseville\, CA)Bullet Train $10.50 @ 3:15pm
DESCRIPTION:Support Group for Traumatic Brain injuries and Acquired Brain injuries\nfollowing the activity you’re welcome to join us for dinner.\nNo dropping off your SURVIVORS\nFun for the survivors and caregivers\n$10.50 p.p
URL:https://enochtbicenter.org/event/cinemark-roseville-galleria-mall-and-xd-roseville-ca/
LOCATION:Century Roseville 14 and XD\, 1191 Galleria Blvd\, Roseville\, CA\, 95678\, United States
END:VEVENT
END:VCALENDAR