BEGIN:VCALENDAR
VERSION:2.0
PRODID:-//Enoch TBI Center - ECPv6.15.18//NONSGML v1.0//EN
CALSCALE:GREGORIAN
METHOD:PUBLISH
X-ORIGINAL-URL:https://enochtbicenter.org
X-WR-CALDESC:Events for Enoch TBI Center
REFRESH-INTERVAL;VALUE=DURATION:PT1H
X-Robots-Tag:noindex
X-PUBLISHED-TTL:PT1H
BEGIN:VTIMEZONE
TZID:UTC
BEGIN:STANDARD
TZOFFSETFROM:+0000
TZOFFSETTO:+0000
TZNAME:UTC
DTSTART:20220101T000000
END:STANDARD
END:VTIMEZONE
BEGIN:VEVENT
DTSTART;TZID=UTC:20230920T114500
DTEND;TZID=UTC:20230920T140000
DTSTAMP:20260424T082953
CREATED:20230831T202119Z
LAST-MODIFIED:20230831T202119Z
UID:1774-1695210300-1695218400@enochtbicenter.org
SUMMARY:RUSCH COMMUNITY PARK
DESCRIPTION:Support Group for traumatic Brain injuries and Acquired brain injury\nNO DROP OFFS bring your lunch
URL:https://enochtbicenter.org/event/rusch-community-park-16/
LOCATION:Rusch Community Park\, 7801 Auburn Blvd\, Citrus Heights\,\, CA\, 95610
END:VEVENT
END:VCALENDAR