BEGIN:VCALENDAR
VERSION:2.0
PRODID:-//Enoch TBI Center - ECPv6.15.18//NONSGML v1.0//EN
CALSCALE:GREGORIAN
METHOD:PUBLISH
X-ORIGINAL-URL:https://enochtbicenter.org
X-WR-CALDESC:Events for Enoch TBI Center
REFRESH-INTERVAL;VALUE=DURATION:PT1H
X-Robots-Tag:noindex
X-PUBLISHED-TTL:PT1H
BEGIN:VTIMEZONE
TZID:UTC
BEGIN:STANDARD
TZOFFSETFROM:+0000
TZOFFSETTO:+0000
TZNAME:UTC
DTSTART:20230101T000000
END:STANDARD
END:VTIMEZONE
BEGIN:VEVENT
DTSTART;TZID=UTC:20240131T145000
DTEND;TZID=UTC:20240131T163000
DTSTAMP:20260424T011559
CREATED:20231220T164621Z
LAST-MODIFIED:20240127T041127Z
UID:1813-1706712600-1706718600@enochtbicenter.org
SUMMARY:Cinemark Roseville Galleria Mall and XD MIGRATION (2023) Movie 1 hr 31 min |
DESCRIPTION:MIGRATION (2023) Movie 1 hr 31 min \nSupport Group for Traumatic Brain injuries and Acquired Brain injuries\nfollowing the activity you’re welcome to join us for dinner.\nNo dropping off your SURVIVORS\nFun for the survivors and caregivers\n$10.75 p.p
URL:https://enochtbicenter.org/event/cinemark-roseville-galleria-mall-and-xd-migration-2023-movie-1-hr-31-min/
LOCATION:Century Roseville 14 and XD\, 1191 Galleria Blvd\, Roseville\, CA\, 95678\, United States
END:VEVENT
END:VCALENDAR