BEGIN:VCALENDAR
VERSION:2.0
PRODID:-//Enoch TBI Center - ECPv6.15.18//NONSGML v1.0//EN
CALSCALE:GREGORIAN
METHOD:PUBLISH
X-WR-CALNAME:Enoch TBI Center
X-ORIGINAL-URL:https://enochtbicenter.org
X-WR-CALDESC:Events for Enoch TBI Center
REFRESH-INTERVAL;VALUE=DURATION:PT1H
X-Robots-Tag:noindex
X-PUBLISHED-TTL:PT1H
BEGIN:VTIMEZONE
TZID:UTC
BEGIN:STANDARD
TZOFFSETFROM:+0000
TZOFFSETTO:+0000
TZNAME:UTC
DTSTART:20230101T000000
END:STANDARD
END:VTIMEZONE
BEGIN:VEVENT
DTSTART;TZID=UTC:20240522T152000
DTEND;TZID=UTC:20240522T164500
DTSTAMP:20260423T203715
CREATED:20240414T235350Z
LAST-MODIFIED:20240414T235910Z
UID:1868-1716391200-1716396300@enochtbicenter.org
SUMMARY:FIRESIDE LANE BOWLING $2.00
DESCRIPTION:Support Group for Traumatic Brain injuries and Acquired Brain injuriesfollowing the activity you’re welcome to join us for dinner.No dropping off your SURVIVORSFun for the survivors and caregivers
URL:https://enochtbicenter.org/event/fireside-lane-bowling-2-00-30/
LOCATION:Bowling @ Fireside Lane\, 7901 Auburn Blvd\,\, Citrus Heights\, CA\, 95610\, United States
END:VEVENT
BEGIN:VEVENT
DTSTART;TZID=UTC:20240522T152000
DTEND;TZID=UTC:20240522T164500
DTSTAMP:20260423T203715
CREATED:20240522T234519Z
LAST-MODIFIED:20240414T234712Z
UID:1864-1716391200-1716396300@enochtbicenter.org
SUMMARY:FIRESIDE LANE BOWLING $2.00
DESCRIPTION:Support Group for Traumatic Brain injuries and Acquired Brain injuriesfollowing the activity you’re welcome to join us for dinner.No dropping off your SURVIVORSFun for the survivors and caregivers
URL:https://enochtbicenter.org/event/fireside-lane-bowling-2-00-28/
LOCATION:Bowling @ Fireside Lane\, 7901 Auburn Blvd\,\, Citrus Heights\, CA\, 95610\, United States
END:VEVENT
END:VCALENDAR