BEGIN:VCALENDAR
VERSION:2.0
PRODID:-//Enoch TBI Center - ECPv6.15.18//NONSGML v1.0//EN
CALSCALE:GREGORIAN
METHOD:PUBLISH
X-ORIGINAL-URL:https://enochtbicenter.org
X-WR-CALDESC:Events for Enoch TBI Center
REFRESH-INTERVAL;VALUE=DURATION:PT1H
X-Robots-Tag:noindex
X-PUBLISHED-TTL:PT1H
BEGIN:VTIMEZONE
TZID:UTC
BEGIN:STANDARD
TZOFFSETFROM:+0000
TZOFFSETTO:+0000
TZNAME:UTC
DTSTART:20230101T000000
END:STANDARD
END:VTIMEZONE
BEGIN:VEVENT
DTSTART;TZID=UTC:20240619T120000
DTEND;TZID=UTC:20240619T140000
DTSTAMP:20260423T191812
CREATED:20240530T144622Z
LAST-MODIFIED:20240616T151728Z
UID:1877-1718798400-1718805600@enochtbicenter.org
SUMMARY:Cinemark Roseville Galleria Mall and XD (Roseville\, CA)Bad Boys ride or die
DESCRIPTION:Support Group for Traumatic Brain injuries and Acquired Brain injuriesfollowing the activity you’re welcome to join us for dinner.No dropping off your SURVIVORSFun for the survivors and caregivers$10.75 p.p
URL:https://enochtbicenter.org/event/rusch-community-park-18/
LOCATION:Century Roseville 14 and XD\, 1191 Galleria Blvd\, Roseville\, CA\, 95678\, United States
END:VEVENT
END:VCALENDAR