BEGIN:VCALENDAR
VERSION:2.0
PRODID:-//Enoch TBI Center - ECPv6.15.18//NONSGML v1.0//EN
CALSCALE:GREGORIAN
METHOD:PUBLISH
X-ORIGINAL-URL:https://enochtbicenter.org
X-WR-CALDESC:Events for Enoch TBI Center
REFRESH-INTERVAL;VALUE=DURATION:PT1H
X-Robots-Tag:noindex
X-PUBLISHED-TTL:PT1H
BEGIN:VTIMEZONE
TZID:UTC
BEGIN:STANDARD
TZOFFSETFROM:+0000
TZOFFSETTO:+0000
TZNAME:UTC
DTSTART:20230101T000000
END:STANDARD
END:VTIMEZONE
BEGIN:VEVENT
DTSTART;TZID=UTC:20241218T123000
DTEND;TZID=UTC:20241218T150000
DTSTAMP:20260423T105732
CREATED:20241207T030725Z
LAST-MODIFIED:20241207T031212Z
UID:1950-1734525000-1734534000@enochtbicenter.org
SUMMARY:Round Table Pizza Christmas party $25.00 gift exchange if you want to.
DESCRIPTION:Support Group for traumatic Brain injuries and Acquired brain injuryNO DROP OFFS
URL:https://enochtbicenter.org/event/round-table-pizza-christmas-party-25-00-gift-exchange-if-you-too/
LOCATION:Round Table Pizza\, 7943 Greenback Lane\, Citrus Heights\,\, CA\, 95610
END:VEVENT
END:VCALENDAR