BEGIN:VCALENDAR
VERSION:2.0
PRODID:-//Enoch TBI Center - ECPv6.15.18//NONSGML v1.0//EN
CALSCALE:GREGORIAN
METHOD:PUBLISH
X-WR-CALNAME:Enoch TBI Center
X-ORIGINAL-URL:https://enochtbicenter.org
X-WR-CALDESC:Events for Enoch TBI Center
REFRESH-INTERVAL;VALUE=DURATION:PT1H
X-Robots-Tag:noindex
X-PUBLISHED-TTL:PT1H
BEGIN:VTIMEZONE
TZID:UTC
BEGIN:STANDARD
TZOFFSETFROM:+0000
TZOFFSETTO:+0000
TZNAME:UTC
DTSTART:20240101T000000
END:STANDARD
END:VTIMEZONE
BEGIN:VEVENT
DTSTART;TZID=UTC:20250917T114500
DTEND;TZID=UTC:20250917T161500
DTSTAMP:20260422T214625
CREATED:20250912T154720Z
LAST-MODIFIED:20250914T203938Z
UID:2038-1758109500-1758125700@enochtbicenter.org
SUMMARY:Underground Mini Golf/18 holes of telling the story of Westward Expansion.
DESCRIPTION:Support Group for Traumatic Brain injuries and Acquired Brain injuriesBefore the activity you’re welcome to join us for Lunch.No dropping off your SURVIVORSFun for the survivors and caregiver $14.99 p.p https://www.undergroundminigolf.comLunch  Lunch at La Terraza across the street upstrairs @11:45 am
URL:https://enochtbicenter.org/event/underground-mini-golf-18-holes-of-telling-the-story-of-westward-expansion-2/
LOCATION:1028 2nd St\, Sacramento\, CA 95814\, 1028 2nd St\, Sacramento\,\, CA\, 95814
END:VEVENT
END:VCALENDAR