BEGIN:VCALENDAR
VERSION:2.0
PRODID:-//Enoch TBI Center - ECPv6.15.18//NONSGML v1.0//EN
CALSCALE:GREGORIAN
METHOD:PUBLISH
X-ORIGINAL-URL:https://enochtbicenter.org
X-WR-CALDESC:Events for Enoch TBI Center
REFRESH-INTERVAL;VALUE=DURATION:PT1H
X-Robots-Tag:noindex
X-PUBLISHED-TTL:PT1H
BEGIN:VTIMEZONE
TZID:UTC
BEGIN:STANDARD
TZOFFSETFROM:+0000
TZOFFSETTO:+0000
TZNAME:UTC
DTSTART:20240101T000000
END:STANDARD
END:VTIMEZONE
BEGIN:VEVENT
DTSTART;TZID=UTC:20251029T141500
DTEND;TZID=UTC:20251029T160000
DTSTAMP:20260422T184600
CREATED:20251029T134628Z
LAST-MODIFIED:20251029T134628Z
UID:2053-1761747300-1761753600@enochtbicenter.org
SUMMARY:Good Fortune Cinemark Roseville Galleria Mall and XD Roseville
DESCRIPTION:Support Group for Traumatic Brain injuries and Acquired Brain injuriesfollowing the activity you’re welcome to join us for dinner.No dropping off your SURVIVORSFun for the survivors and caregivers $10.50 p.p
URL:https://enochtbicenter.org/event/good-fortune-cinemark-roseville-galleria-mall-and-xd-roseville/
LOCATION:Century Roseville 14 and XD\, 1191 Galleria Blvd\, Roseville\, CA\, 95678\, United States
END:VEVENT
END:VCALENDAR