BEGIN:VCALENDAR
VERSION:2.0
PRODID:-//Enoch TBI Center - ECPv6.15.18//NONSGML v1.0//EN
CALSCALE:GREGORIAN
METHOD:PUBLISH
X-ORIGINAL-URL:https://enochtbicenter.org
X-WR-CALDESC:Events for Enoch TBI Center
REFRESH-INTERVAL;VALUE=DURATION:PT1H
X-Robots-Tag:noindex
X-PUBLISHED-TTL:PT1H
BEGIN:VTIMEZONE
TZID:UTC
BEGIN:STANDARD
TZOFFSETFROM:+0000
TZOFFSETTO:+0000
TZNAME:UTC
DTSTART:20200101T000000
END:STANDARD
END:VTIMEZONE
BEGIN:VEVENT
DTSTART;TZID=UTC:20211201T114500
DTEND;TZID=UTC:20211201T143000
DTSTAMP:20260425T164955
CREATED:20211019T230005Z
LAST-MODIFIED:20211019T230048Z
UID:1492-1638359100-1638369000@enochtbicenter.org
SUMMARY:Round Table Pizza
DESCRIPTION:Support Group for Traumatic Brain injuries and Acquired Brain injuries. \nGames\, free Slice of Pizza
URL:https://enochtbicenter.org/event/round-table-pizza-3/
LOCATION:Round Table Pizza\, 7943 Greenback Lane\, Citrus Heights\,\, CA\, 95610
END:VEVENT
BEGIN:VEVENT
DTSTART;TZID=UTC:20211208T152000
DTEND;TZID=UTC:20211208T170000
DTSTAMP:20260425T164955
CREATED:20211120T233232Z
LAST-MODIFIED:20211120T233232Z
UID:1528-1638976800-1638982800@enochtbicenter.org
SUMMARY:Fireside Lane Bowling
DESCRIPTION:Support Group for Traumatic Brain injuries and Acquired Brain injuries\nfollowing the activity you’re welcome to join us for dinner. \nFireside Lane Bowling $2.00 per game p.p \nNo dropping off your SURVIVORS \nFun for the survivors and caregivers \n 
URL:https://enochtbicenter.org/event/fireside-lane-bowling-8/
LOCATION:7901 Auburn Blvd\, Citrus Heights\, CA 95610\, 7901 Auburn Blvd\,\, 7901 Auburn Blvd\, Citrus Heights\, 95610\, United States
END:VEVENT
BEGIN:VEVENT
DTSTART;TZID=UTC:20211215T114500
DTEND;TZID=UTC:20211215T143000
DTSTAMP:20260425T164955
CREATED:20211120T234027Z
LAST-MODIFIED:20211120T234027Z
UID:1530-1639568700-1639578600@enochtbicenter.org
SUMMARY:Round Table Pizza
DESCRIPTION:Support Group for Traumatic Brain injuries and Acquired Brain injuries \n  \nNo dropping off your SURVIVORS \nFun for the survivors and caregivers \nGames\, Free Slice of Pizza
URL:https://enochtbicenter.org/event/round-table-pizza-4/
LOCATION:Round Table Pizza\, 7943 Greenback Lane\, Citrus Heights\,\, CA\, 95610
END:VEVENT
BEGIN:VEVENT
DTSTART;TZID=UTC:20211222T152000
DTEND;TZID=UTC:20211222T200000
DTSTAMP:20260425T164955
CREATED:20211120T234745Z
LAST-MODIFIED:20211218T202715Z
UID:1532-1640186400-1640203200@enochtbicenter.org
SUMMARY:Fireside Lane Bowling and Christmas dinner
DESCRIPTION:Christmas Party at Buca di Beppo in Roseville @ 1212 Galleria Blvd. Roseville Ca 95678 @5:45pm \nFor the gift exchange please bring a $20.00 Gift to exchange and food will be provided. You will need to buy your own drinks\, \nSurvivors will have contests to win prize. \n@ 3:20pm Fireside Lane Bowling $2.00 per game p.p after bowling we will be going to Christmas Party at Buca di Beppo in Roseville \nSupport Group for Traumatic Brain injuries and Acquired Brain injuries\nfollowing the activity you’re welcome to join us for dinner. \nNo dropping off your SURVIVORS Fun for the survivors and caregivers
URL:https://enochtbicenter.org/event/fireside-lane-bowling-and-christmas-dinner/
LOCATION:Fireside Lane Bowling\, 7901 Auburn Blvd\,\, Citrus Heights\, CA\, 95610\, United States
END:VEVENT
BEGIN:VEVENT
DTSTART;TZID=UTC:20211229T114500
DTEND;TZID=UTC:20211229T143000
DTSTAMP:20260425T164955
CREATED:20211120T235151Z
LAST-MODIFIED:20211120T235151Z
UID:1534-1640778300-1640788200@enochtbicenter.org
SUMMARY:Round Table Pizza
DESCRIPTION:Games\, Free Slice of Pizza \nSupport Group for Traumatic Brain injuries and Acquired Brain injuries\nfollowing the activity you’re welcome to join us for dinner. \nNo dropping off your SURVIVORS Fun for the survivors and caregivers
URL:https://enochtbicenter.org/event/round-table-pizza-5/
LOCATION:Round Table Pizza\, 7943 Greenback Lane\, Citrus Heights\,\, CA\, 95610
END:VEVENT
END:VCALENDAR