BEGIN:VCALENDAR
VERSION:2.0
PRODID:-//Enoch TBI Center - ECPv6.15.18//NONSGML v1.0//EN
CALSCALE:GREGORIAN
METHOD:PUBLISH
X-ORIGINAL-URL:https://enochtbicenter.org
X-WR-CALDESC:Events for Enoch TBI Center
REFRESH-INTERVAL;VALUE=DURATION:PT1H
X-Robots-Tag:noindex
X-PUBLISHED-TTL:PT1H
BEGIN:VTIMEZONE
TZID:UTC
BEGIN:STANDARD
TZOFFSETFROM:+0000
TZOFFSETTO:+0000
TZNAME:UTC
DTSTART:20210101T000000
END:STANDARD
END:VTIMEZONE
BEGIN:VEVENT
DTSTART;TZID=UTC:20220105T114500
DTEND;TZID=UTC:20220105T143000
DTSTAMP:20260425T151814
CREATED:20220101T005951Z
LAST-MODIFIED:20220101T005951Z
UID:1542-1641383100-1641393000@enochtbicenter.org
SUMMARY:Round Table Pizza
DESCRIPTION:Support Group For TBI and ABI\nGames\, Free Slice of Pizza
URL:https://enochtbicenter.org/event/round-table-pizza-6/
LOCATION:Round Table Pizza\, 7943 Greenback Lane\, Citrus Heights\,\, CA\, 95610
END:VEVENT
BEGIN:VEVENT
DTSTART;TZID=UTC:20220112T152000
DTEND;TZID=UTC:20220112T170000
DTSTAMP:20260425T151814
CREATED:20220101T010832Z
LAST-MODIFIED:20220101T010832Z
UID:1546-1642000800-1642006800@enochtbicenter.org
SUMMARY:Fireside Lane Bowling
DESCRIPTION:Support Group For TBI and ABI \nNo dropping off your SURVIVORS \nFun for the survivors and caregivers \n  \n$2.00 per Person Game \n$4.00 shoe Per/Person
URL:https://enochtbicenter.org/event/fireside-lane-bowling-9/
LOCATION:Fireside Lane Bowling\, 7901 Auburn Blvd\,\, Citrus Heights\, CA\, 95610\, United States
END:VEVENT
BEGIN:VEVENT
DTSTART;TZID=UTC:20220119T114500
DTEND;TZID=UTC:20220119T143000
DTSTAMP:20260425T151814
CREATED:20220101T010352Z
LAST-MODIFIED:20220101T010352Z
UID:1544-1642592700-1642602600@enochtbicenter.org
SUMMARY:Round Table Pizza
DESCRIPTION:Support Group For TBI and ABI\nGames\, Free Slice of Pizza
URL:https://enochtbicenter.org/event/round-table-pizza-7/
LOCATION:Round Table Pizza\, 7943 Greenback Lane\, Citrus Heights\,\, CA\, 95610
END:VEVENT
BEGIN:VEVENT
DTSTART;TZID=UTC:20220126T152000
DTEND;TZID=UTC:20220126T170000
DTSTAMP:20260425T151814
CREATED:20220101T011158Z
LAST-MODIFIED:20220101T011158Z
UID:1548-1643210400-1643216400@enochtbicenter.org
SUMMARY:Fireside Lane Bowling
DESCRIPTION:Support Group for Traumatic Brain injuries and Acquired Brain injuries\nfollowing the activity you’re welcome to join us for dinner. \nNo dropping off your SURVIVORS \nFun for the survivors and caregivers \n  \n$2:00 per Person Game \n$4.00 shoe Per/Person
URL:https://enochtbicenter.org/event/fireside-lane-bowling-10/
LOCATION:Fireside Lane Bowling\, 7901 Auburn Blvd\,\, Citrus Heights\, CA\, 95610\, United States
END:VEVENT
END:VCALENDAR