BEGIN:VCALENDAR
VERSION:2.0
PRODID:-//Enoch TBI Center - ECPv6.15.18//NONSGML v1.0//EN
CALSCALE:GREGORIAN
METHOD:PUBLISH
X-WR-CALNAME:Enoch TBI Center
X-ORIGINAL-URL:https://enochtbicenter.org
X-WR-CALDESC:Events for Enoch TBI Center
REFRESH-INTERVAL;VALUE=DURATION:PT1H
X-Robots-Tag:noindex
X-PUBLISHED-TTL:PT1H
BEGIN:VTIMEZONE
TZID:UTC
BEGIN:STANDARD
TZOFFSETFROM:+0000
TZOFFSETTO:+0000
TZNAME:UTC
DTSTART:20210101T000000
END:STANDARD
END:VTIMEZONE
BEGIN:VEVENT
DTSTART;TZID=UTC:20220202T114500
DTEND;TZID=UTC:20220202T143000
DTSTAMP:20260425T133523
CREATED:20220131T062551Z
LAST-MODIFIED:20220131T062551Z
UID:1551-1643802300-1643812200@enochtbicenter.org
SUMMARY:Round Table Pizza
DESCRIPTION:Support Group For TBI and ABI\nGames\, Free Slice of Pizza \nNo dropping off your SURVIVORS \nFun for the survivors and caregivers
URL:https://enochtbicenter.org/event/round-table-pizza-8/
LOCATION:Round Table Pizza\, 7943 Greenback Lane\, Citrus Heights\,\, CA\, 95610
END:VEVENT
BEGIN:VEVENT
DTSTART;TZID=UTC:20220209T152000
DTEND;TZID=UTC:20220209T170000
DTSTAMP:20260425T133523
CREATED:20220131T063003Z
LAST-MODIFIED:20220131T063003Z
UID:1553-1644420000-1644426000@enochtbicenter.org
SUMMARY:Fireside Lane Bowling
DESCRIPTION:$2.00 per game p.p \nSupport Group for Traumatic Brain injuries and Acquired Brain injuries\nfollowing the activity you’re welcome to join us for dinner.
URL:https://enochtbicenter.org/event/fireside-lane-bowling-11/
LOCATION:Bowling @ Fireside Lane\, 7901 Auburn Blvd\,\, Citrus Heights\, CA\, 95610\, United States
END:VEVENT
BEGIN:VEVENT
DTSTART;TZID=UTC:20220216T114500
DTEND;TZID=UTC:20220216T143000
DTSTAMP:20260425T133523
CREATED:20220131T063640Z
LAST-MODIFIED:20220131T063640Z
UID:1555-1645011900-1645021800@enochtbicenter.org
SUMMARY:Round Table Pizza
DESCRIPTION:No dropping off your SURVIVORS \nSupport Group for Traumatic Brain injuries and Acquired Brain injuries\nGames\, Free Slice of Pizza
URL:https://enochtbicenter.org/event/round-table-pizza-9/
LOCATION:Round Table Pizza\, 7943 Greenback Lane\, Citrus Heights\,\, CA\, 95610
END:VEVENT
BEGIN:VEVENT
DTSTART;TZID=UTC:20220223T152000
DTEND;TZID=UTC:20220223T170000
DTSTAMP:20260425T133523
CREATED:20220131T064051Z
LAST-MODIFIED:20220131T064233Z
UID:1557-1645629600-1645635600@enochtbicenter.org
SUMMARY:Fireside Lane Bowling
DESCRIPTION:$2.00 per Person Game \nSupport Group for Traumatic Brain injuries and Acquired Brain injuries\nfollowing the activity you’re welcome to join us for dinner. \nNo dropping off your SURVIVORS \nFun for the survivors and caregivers
URL:https://enochtbicenter.org/event/fireside-lane-bowling-12/
LOCATION:Bowling @ Fireside Lane\, 7901 Auburn Blvd\,\, Citrus Heights\, CA\, 95610\, United States
END:VEVENT
END:VCALENDAR