BEGIN:VCALENDAR
VERSION:2.0
PRODID:-//Enoch TBI Center - ECPv6.15.18//NONSGML v1.0//EN
CALSCALE:GREGORIAN
METHOD:PUBLISH
X-WR-CALNAME:Enoch TBI Center
X-ORIGINAL-URL:https://enochtbicenter.org
X-WR-CALDESC:Events for Enoch TBI Center
REFRESH-INTERVAL;VALUE=DURATION:PT1H
X-Robots-Tag:noindex
X-PUBLISHED-TTL:PT1H
BEGIN:VTIMEZONE
TZID:UTC
BEGIN:STANDARD
TZOFFSETFROM:+0000
TZOFFSETTO:+0000
TZNAME:UTC
DTSTART:20210101T000000
END:STANDARD
END:VTIMEZONE
BEGIN:VEVENT
DTSTART;TZID=UTC:20220302T114500
DTEND;TZID=UTC:20220302T143000
DTSTAMP:20260425T115511
CREATED:20220221T171955Z
LAST-MODIFIED:20220221T171955Z
UID:1563-1646221500-1646231400@enochtbicenter.org
SUMMARY:Round Table Pizza
DESCRIPTION:Support Group For TBI and ABI\nGames\, Free Slice of Pizza \n  \nNo dropping off your SURVIVORS \nFun for the survivors and caregivers
URL:https://enochtbicenter.org/event/round-table-pizza-10/
LOCATION:Round Table Pizza\, 7943 Greenback Lane\, Citrus Heights\,\, CA\, 95610
END:VEVENT
BEGIN:VEVENT
DTSTART;TZID=UTC:20220309T152000
DTEND;TZID=UTC:20220309T170000
DTSTAMP:20260425T115511
CREATED:20220221T172347Z
LAST-MODIFIED:20220221T172347Z
UID:1565-1646839200-1646845200@enochtbicenter.org
SUMMARY:Fireside Lane Bowling $2.00 per game p.p
DESCRIPTION:Support Group for Traumatic Brain injuries and Acquired Brain injuries\nfollowing the activity you’re welcome to join us for dinner. \n  \nNo dropping off your SURVIVORS \nFun for the survivors and caregivers
URL:https://enochtbicenter.org/event/fireside-lane-bowling-2-00-per-game-p-p/
LOCATION:Bowling @ Fireside Lane\, 7901 Auburn Blvd\,\, Citrus Heights\, CA\, 95610\, United States
END:VEVENT
BEGIN:VEVENT
DTSTART;TZID=UTC:20220316T114500
DTEND;TZID=UTC:20220316T143000
DTSTAMP:20260425T115511
CREATED:20220221T172804Z
LAST-MODIFIED:20220221T172804Z
UID:1567-1647431100-1647441000@enochtbicenter.org
SUMMARY:Round Table Pizza
DESCRIPTION:Support Group for Traumatic Brain injuries and Acquired Brain injuries\n.Games\, Free Slice of Pizza \nNo dropping off your SURVIVORS \nFun for the survivors and caregivers
URL:https://enochtbicenter.org/event/round-table-pizza-11/
LOCATION:Round Table Pizza\, 7943 Greenback Lane\, Citrus Heights\,\, CA\, 95610
END:VEVENT
BEGIN:VEVENT
DTSTART;TZID=UTC:20220323T154500
DTEND;TZID=UTC:20220323T170000
DTSTAMP:20260425T115511
CREATED:20220221T173358Z
LAST-MODIFIED:20220221T173358Z
UID:1569-1648050300-1648054800@enochtbicenter.org
SUMMARY:Fireside Lane Bowling $2.00 per game p.p
DESCRIPTION:Support Group for Traumatic Brain injuries and Acquired Brain injuries\nfollowing the activity you’re welcome to join us for dinner. \nNo dropping off your SURVIVORS \nFun for the survivors and caregivers
URL:https://enochtbicenter.org/event/fireside-lane-bowling-2-00-per-game-p-p-2/
LOCATION:Bowling @ Fireside Lane\, 7901 Auburn Blvd\,\, Citrus Heights\, CA\, 95610\, United States
END:VEVENT
BEGIN:VEVENT
DTSTART;TZID=UTC:20220330T114500
DTEND;TZID=UTC:20220330T143000
DTSTAMP:20260425T115511
CREATED:20220327T151437Z
LAST-MODIFIED:20220327T151437Z
UID:1572-1648640700-1648650600@enochtbicenter.org
SUMMARY:Round Table Pizza
DESCRIPTION:Support Group For TBI and ABI\nGames\, Free Slice of Pizza \n  \nNo dropping off your SURVIVORS \nFun for the survivors and caregivers
URL:https://enochtbicenter.org/event/round-table-pizza-12/
LOCATION:Round Table Pizza\, 7943 Greenback Lane\, Citrus Heights\,\, CA\, 95610
END:VEVENT
END:VCALENDAR