BEGIN:VCALENDAR
VERSION:2.0
PRODID:-//Enoch TBI Center - ECPv6.15.18//NONSGML v1.0//EN
CALSCALE:GREGORIAN
METHOD:PUBLISH
X-WR-CALNAME:Enoch TBI Center
X-ORIGINAL-URL:https://enochtbicenter.org
X-WR-CALDESC:Events for Enoch TBI Center
REFRESH-INTERVAL;VALUE=DURATION:PT1H
X-Robots-Tag:noindex
X-PUBLISHED-TTL:PT1H
BEGIN:VTIMEZONE
TZID:UTC
BEGIN:STANDARD
TZOFFSETFROM:+0000
TZOFFSETTO:+0000
TZNAME:UTC
DTSTART:20210101T000000
END:STANDARD
END:VTIMEZONE
BEGIN:VEVENT
DTSTART;TZID=UTC:20220803T114500
DTEND;TZID=UTC:20220803T140000
DTSTAMP:20260425T034554
CREATED:20220705T000423Z
LAST-MODIFIED:20220705T000423Z
UID:1617-1659527100-1659535200@enochtbicenter.org
SUMMARY:Round Table Pizza
DESCRIPTION:Support Group for traumatic Brain injuries and Acquired brain injury\nNO DROP OFFS free pizza
URL:https://enochtbicenter.org/event/round-table-pizza-17/
LOCATION:Round Table Pizza\, 7943 Greenback Lane\, Citrus Heights\,\, CA\, 95610
END:VEVENT
BEGIN:VEVENT
DTSTART;TZID=UTC:20220810T152000
DTEND;TZID=UTC:20220810T170000
DTSTAMP:20260425T034554
CREATED:20220705T000654Z
LAST-MODIFIED:20220705T000654Z
UID:1619-1660144800-1660150800@enochtbicenter.org
SUMMARY:FIRESIDE LANE BOWLING $ 2.00 per game
DESCRIPTION:Support Group for Traumatic Brain injuries and Acquired Brain injuries\nfollowing the activity you’re welcome to join us for dinner.\nNo dropping off your SURVIVORS\nFun for the survivors and caregivers
URL:https://enochtbicenter.org/event/fireside-lane-bowling-2-00-per-game-7/
LOCATION:Bowling @ Fireside Lane\, 7901 Auburn Blvd\,\, Citrus Heights\, CA\, 95610\, United States
END:VEVENT
BEGIN:VEVENT
DTSTART;TZID=UTC:20220817T114500
DTEND;TZID=UTC:20220817T143000
DTSTAMP:20260425T034554
CREATED:20220705T001111Z
LAST-MODIFIED:20220705T001111Z
UID:1621-1660736700-1660746600@enochtbicenter.org
SUMMARY:RUSCH COMMUNITY PARK
DESCRIPTION:Support Group for traumatic Brain injuries and Acquired brain injury\nNO DROP OFFS   Bring your lunch
URL:https://enochtbicenter.org/event/rusch-community-park-10/
LOCATION:Rusch Community Park\, 7801 Auburn Blvd\, Citrus Heights\,\, CA\, 95610
END:VEVENT
BEGIN:VEVENT
DTSTART;TZID=UTC:20220824T152000
DTEND;TZID=UTC:20220824T170000
DTSTAMP:20260425T034554
CREATED:20220705T001403Z
LAST-MODIFIED:20220705T001403Z
UID:1623-1661354400-1661360400@enochtbicenter.org
SUMMARY:FIRESIDE LANE BOWLING $ 2.00 per game
DESCRIPTION:Support Group for Traumatic Brain injuries and Acquired Brain injuries\nfollowing the activity you’re welcome to join us for dinner.\nNo dropping off your SURVIVORS\nFun for the survivors and caregivers
URL:https://enochtbicenter.org/event/fireside-lane-bowling-2-00-per-game-8/
LOCATION:Bowling @ Fireside Lane\, 7901 Auburn Blvd\,\, Citrus Heights\, CA\, 95610\, United States
END:VEVENT
BEGIN:VEVENT
DTSTART;TZID=UTC:20220831T150000
DTEND;TZID=UTC:20220831T170000
DTSTAMP:20260425T034554
CREATED:20220805T025933Z
LAST-MODIFIED:20220830T024952Z
UID:1626-1661958000-1661965200@enochtbicenter.org
SUMMARY:Cinemark Roseville Galleria Mall and XD (Roseville\, CA)Bullet Train $10.50 @ 3:15pm
DESCRIPTION:Support Group for Traumatic Brain injuries and Acquired Brain injuries\nfollowing the activity you’re welcome to join us for dinner.\nNo dropping off your SURVIVORS\nFun for the survivors and caregivers\n$10.50 p.p
URL:https://enochtbicenter.org/event/cinemark-roseville-galleria-mall-and-xd-roseville-ca/
LOCATION:Century Roseville 14 and XD\, 1191 Galleria Blvd\, Roseville\, CA\, 95678\, United States
END:VEVENT
END:VCALENDAR