BEGIN:VCALENDAR
VERSION:2.0
PRODID:-//Enoch TBI Center - ECPv6.15.18//NONSGML v1.0//EN
CALSCALE:GREGORIAN
METHOD:PUBLISH
X-ORIGINAL-URL:https://enochtbicenter.org
X-WR-CALDESC:Events for Enoch TBI Center
REFRESH-INTERVAL;VALUE=DURATION:PT1H
X-Robots-Tag:noindex
X-PUBLISHED-TTL:PT1H
BEGIN:VTIMEZONE
TZID:UTC
BEGIN:STANDARD
TZOFFSETFROM:+0000
TZOFFSETTO:+0000
TZNAME:UTC
DTSTART:20210101T000000
END:STANDARD
END:VTIMEZONE
BEGIN:VEVENT
DTSTART;TZID=UTC:20221102T114500
DTEND;TZID=UTC:20221102T140000
DTSTAMP:20260424T220627
CREATED:20221031T020754Z
LAST-MODIFIED:20221031T020852Z
UID:1654-1667389500-1667397600@enochtbicenter.org
SUMMARY:Round Table Pizza
DESCRIPTION:Support Group for traumatic Brain injuries and Acquired brain injury\nNO DROP OFFS
URL:https://enochtbicenter.org/event/round-table-pizza-20/
LOCATION:Round Table Pizza\, 7943 Greenback Lane\, Citrus Heights\,\, CA\, 95610
END:VEVENT
BEGIN:VEVENT
DTSTART;TZID=UTC:20221109T152000
DTEND;TZID=UTC:20221109T170000
DTSTAMP:20260424T220627
CREATED:20221031T021149Z
LAST-MODIFIED:20221031T021149Z
UID:1656-1668007200-1668013200@enochtbicenter.org
SUMMARY:FIRESIDE LANE BOWLING $ 2.00
DESCRIPTION:Support Group for Traumatic Brain injuries and Acquired Brain injuries\nfollowing the activity you’re welcome to join us for dinner.\nNo dropping off your SURVIVORS\nFun for the survivors and caregivers
URL:https://enochtbicenter.org/event/fireside-lane-bowling-2-00/
LOCATION:Bowling @ Fireside Lane\, 7901 Auburn Blvd\,\, Citrus Heights\, CA\, 95610\, United States
END:VEVENT
BEGIN:VEVENT
DTSTART;TZID=UTC:20221116T114500
DTEND;TZID=UTC:20221116T140000
DTSTAMP:20260424T220627
CREATED:20221031T021434Z
LAST-MODIFIED:20221031T021434Z
UID:1658-1668599100-1668607200@enochtbicenter.org
SUMMARY:Round Table Pizza
DESCRIPTION:Support Group for traumatic Brain injuries and Acquired brain injury\nNO DROP OFFS
URL:https://enochtbicenter.org/event/round-table-pizza-21/
LOCATION:Round Table Pizza\, 7943 Greenback Lane\, Citrus Heights\,\, CA\, 95610
END:VEVENT
BEGIN:VEVENT
DTSTART;TZID=UTC:20221123T152000
DTEND;TZID=UTC:20221123T170000
DTSTAMP:20260424T220627
CREATED:20221031T021726Z
LAST-MODIFIED:20221103T023414Z
UID:1660-1669216800-1669222800@enochtbicenter.org
SUMMARY:FIRESIDE LANE BOWLING $ 2.00 per game
DESCRIPTION:Support Group for Traumatic Brain injuries and Acquired Brain injuries\nfollowing the activity you’re welcome to join us for Dinner.\nNo dropping off your SURVIVORS\nFun for the survivors and caregivers
URL:https://enochtbicenter.org/event/fireside-lane-bowling-2-00-2/
LOCATION:Fireside Lane Bowling\, 7901 Auburn Blvd\,\, Citrus Heights\, CA\, 95610\, United States
END:VEVENT
BEGIN:VEVENT
DTSTART;TZID=UTC:20221130T152000
DTEND;TZID=UTC:20221130T170000
DTSTAMP:20260424T220627
CREATED:20221031T022107Z
LAST-MODIFIED:20221031T022957Z
UID:1662-1669821600-1669827600@enochtbicenter.org
SUMMARY:FIRESIDE LANE BOWLING $ 2.00
DESCRIPTION:Support Group for Traumatic Brain injuries and Acquired Brain injuries\nfollowing the activity you’re welcome to join us for dinner.\nNo dropping off your SURVIVORS\nFun for the survivors and caregivers
URL:https://enochtbicenter.org/event/round-table-pizza-22/
LOCATION:Fireside Lane Bowling\, 7901 Auburn Blvd\,\, Citrus Heights\, CA\, 95610\, United States
END:VEVENT
END:VCALENDAR