BEGIN:VCALENDAR
VERSION:2.0
PRODID:-//Enoch TBI Center - ECPv6.15.18//NONSGML v1.0//EN
CALSCALE:GREGORIAN
METHOD:PUBLISH
X-ORIGINAL-URL:https://enochtbicenter.org
X-WR-CALDESC:Events for Enoch TBI Center
REFRESH-INTERVAL;VALUE=DURATION:PT1H
X-Robots-Tag:noindex
X-PUBLISHED-TTL:PT1H
BEGIN:VTIMEZONE
TZID:UTC
BEGIN:STANDARD
TZOFFSETFROM:+0000
TZOFFSETTO:+0000
TZNAME:UTC
DTSTART:20220101T000000
END:STANDARD
END:VTIMEZONE
BEGIN:VEVENT
DTSTART;TZID=UTC:20230607T112000
DTEND;TZID=UTC:20230607T130000
DTSTAMP:20260424T113605
CREATED:20230530T194403Z
LAST-MODIFIED:20230530T194403Z
UID:1736-1686136800-1686142800@enochtbicenter.org
SUMMARY:Round Table Pizza
DESCRIPTION:Support Group for traumatic Brain injuries and Acquired brain injury\nNO DROP OFFS
URL:https://enochtbicenter.org/event/round-table-pizza-34/
LOCATION:Round Table Pizza\, 7943 Greenback Lane\, Citrus Heights\,\, CA\, 95610
END:VEVENT
BEGIN:VEVENT
DTSTART;TZID=UTC:20230614T152000
DTEND;TZID=UTC:20230614T170000
DTSTAMP:20260424T113605
CREATED:20230530T194737Z
LAST-MODIFIED:20230530T194737Z
UID:1738-1686756000-1686762000@enochtbicenter.org
SUMMARY:FIRESIDE LANE BOWLING $2.00
DESCRIPTION:Support Group for Traumatic Brain injuries and Acquired Brain injuries\nfollowing the activity you’re welcome to join us for dinner.\nNo dropping off your SURVIVORS\nFun for the survivors and caregivers
URL:https://enochtbicenter.org/event/fireside-lane-bowling-2-00-7/
LOCATION:Bowling @ Fireside Lane\, 7901 Auburn Blvd\,\, Citrus Heights\, CA\, 95610\, United States
END:VEVENT
BEGIN:VEVENT
DTSTART;TZID=UTC:20230621T114500
DTEND;TZID=UTC:20230621T140000
DTSTAMP:20260424T113605
CREATED:20230530T195316Z
LAST-MODIFIED:20230530T195316Z
UID:1742-1687347900-1687356000@enochtbicenter.org
SUMMARY:RUSCH COMMUNITY PARK
DESCRIPTION:Support Group for traumatic Brain injuries and Acquired brain injury\nNO DROP OFFS
URL:https://enochtbicenter.org/event/rusch-community-park-13/
LOCATION:Rusch Community Park\, 7801 Auburn Blvd\, Citrus Heights\,\, CA\, 95610
END:VEVENT
BEGIN:VEVENT
DTSTART;TZID=UTC:20230628T152000
DTEND;TZID=UTC:20230628T170000
DTSTAMP:20260424T113605
CREATED:20230530T195017Z
LAST-MODIFIED:20230530T195017Z
UID:1740-1687965600-1687971600@enochtbicenter.org
SUMMARY:FIRESIDE LANE BOWLING $2.00
DESCRIPTION:Support Group for Traumatic Brain injuries and Acquired Brain injuries\nfollowing the activity you’re welcome to join us for dinner.\nNo dropping off your SURVIVORS\nFun for the survivors and caregivers
URL:https://enochtbicenter.org/event/fireside-lane-bowling-2-00-8/
LOCATION:Fireside Lane Bowling\, 7901 Auburn Blvd\,\, Citrus Heights\, CA\, 95610\, United States
END:VEVENT
END:VCALENDAR