BEGIN:VCALENDAR
VERSION:2.0
PRODID:-//Enoch TBI Center - ECPv6.15.18//NONSGML v1.0//EN
CALSCALE:GREGORIAN
METHOD:PUBLISH
X-ORIGINAL-URL:https://enochtbicenter.org
X-WR-CALDESC:Events for Enoch TBI Center
REFRESH-INTERVAL;VALUE=DURATION:PT1H
X-Robots-Tag:noindex
X-PUBLISHED-TTL:PT1H
BEGIN:VTIMEZONE
TZID:UTC
BEGIN:STANDARD
TZOFFSETFROM:+0000
TZOFFSETTO:+0000
TZNAME:UTC
DTSTART:20220101T000000
END:STANDARD
END:VTIMEZONE
BEGIN:VEVENT
DTSTART;TZID=UTC:20230705T114500
DTEND;TZID=UTC:20230705T133000
DTSTAMP:20260424T095850
CREATED:20230626T045404Z
LAST-MODIFIED:20230626T045404Z
UID:1745-1688557500-1688563800@enochtbicenter.org
SUMMARY:Round Table Pizza
DESCRIPTION:Support Group for traumatic Brain injuries and Acquired brain injury\nNO DROP OFFS
URL:https://enochtbicenter.org/event/round-table-pizza-35/
LOCATION:Round Table Pizza\, 7943 Greenback Lane\, Citrus Heights\,\, CA\, 95610
END:VEVENT
BEGIN:VEVENT
DTSTART;TZID=UTC:20230712T152000
DTEND;TZID=UTC:20230712T170000
DTSTAMP:20260424T095850
CREATED:20230626T045717Z
LAST-MODIFIED:20230626T045717Z
UID:1747-1689175200-1689181200@enochtbicenter.org
SUMMARY:FIRESIDE LANE BOWLING $2.00
DESCRIPTION:Support Group for Traumatic Brain injuries and Acquired Brain injuries\nfollowing the activity you’re welcome to join us for dinner.\nNo dropping off your SURVIVORS\nFun for the survivors and caregivers
URL:https://enochtbicenter.org/event/fireside-lane-bowling-2-00-9/
LOCATION:Fireside Lane Bowling\, 7901 Auburn Blvd\,\, Citrus Heights\, CA\, 95610\, United States
END:VEVENT
BEGIN:VEVENT
DTSTART;TZID=UTC:20230719T114500
DTEND;TZID=UTC:20230719T134500
DTSTAMP:20260424T095850
CREATED:20230626T050125Z
LAST-MODIFIED:20230626T050125Z
UID:1751-1689767100-1689774300@enochtbicenter.org
SUMMARY:RUSCH COMMUNITY PARK
DESCRIPTION:Support Group for traumatic Brain injuries and Acquired brain injury\nNO DROP OFFS
URL:https://enochtbicenter.org/event/rusch-community-park-14/
LOCATION:Rusch Community Park\, 7801 Auburn Blvd\, Citrus Heights\,\, CA\, 95610
END:VEVENT
BEGIN:VEVENT
DTSTART;TZID=UTC:20230726T152000
DTEND;TZID=UTC:20230726T170000
DTSTAMP:20260424T095850
CREATED:20230626T045907Z
LAST-MODIFIED:20230626T045907Z
UID:1749-1690384800-1690390800@enochtbicenter.org
SUMMARY:FIRESIDE LANE BOWLING $2.00
DESCRIPTION:Support Group for Traumatic Brain injuries and Acquired Brain injuries\nfollowing the activity you’re welcome to join us for dinner.\nNo dropping off your SURVIVORS\nFun for the survivors and caregivers
URL:https://enochtbicenter.org/event/fireside-lane-bowling-2-00-10/
LOCATION:Bowling @ Fireside Lane\, 7901 Auburn Blvd\,\, Citrus Heights\, CA\, 95610\, United States
END:VEVENT
END:VCALENDAR