BEGIN:VCALENDAR
VERSION:2.0
PRODID:-//Enoch TBI Center - ECPv6.15.18//NONSGML v1.0//EN
CALSCALE:GREGORIAN
METHOD:PUBLISH
X-ORIGINAL-URL:https://enochtbicenter.org
X-WR-CALDESC:Events for Enoch TBI Center
REFRESH-INTERVAL;VALUE=DURATION:PT1H
X-Robots-Tag:noindex
X-PUBLISHED-TTL:PT1H
BEGIN:VTIMEZONE
TZID:UTC
BEGIN:STANDARD
TZOFFSETFROM:+0000
TZOFFSETTO:+0000
TZNAME:UTC
DTSTART:20220101T000000
END:STANDARD
END:VTIMEZONE
BEGIN:VEVENT
DTSTART;TZID=UTC:20230802T114500
DTEND;TZID=UTC:20230802T133000
DTSTAMP:20260424T083032
CREATED:20230724T041042Z
LAST-MODIFIED:20230724T041042Z
UID:1754-1690976700-1690983000@enochtbicenter.org
SUMMARY:Round Table Pizza
DESCRIPTION:Support Group for traumatic Brain injuries and Acquired brain injury\nNO DROP OFFS bring your lunch
URL:https://enochtbicenter.org/event/round-table-pizza-36/
LOCATION:Round Table Pizza\, 7943 Greenback Lane\, Citrus Heights\,\, CA\, 95610
END:VEVENT
BEGIN:VEVENT
DTSTART;TZID=UTC:20230809T152000
DTEND;TZID=UTC:20230809T170000
DTSTAMP:20260424T083032
CREATED:20230724T041317Z
LAST-MODIFIED:20230724T041317Z
UID:1756-1691594400-1691600400@enochtbicenter.org
SUMMARY:FIRESIDE LANE BOWLING $2.00
DESCRIPTION:Support Group for Traumatic Brain injuries and Acquired Brain injuries\nfollowing the activity you’re welcome to join us for dinner.\nNo dropping off your SURVIVORS\nFun for the survivors and caregivers
URL:https://enochtbicenter.org/event/fireside-lane-bowling-2-00-11/
LOCATION:Bowling @ Fireside Lane\, 7901 Auburn Blvd\,\, Citrus Heights\, CA\, 95610\, United States
END:VEVENT
BEGIN:VEVENT
DTSTART;TZID=UTC:20230816T114500
DTEND;TZID=UTC:20230816T140000
DTSTAMP:20260424T083032
CREATED:20230724T041556Z
LAST-MODIFIED:20230814T214507Z
UID:1758-1692186300-1692194400@enochtbicenter.org
SUMMARY:Due to hot weather we changed it to /Round Table Pizza
DESCRIPTION:Support Group for traumatic Brain injuries and Acquired brain injury\nNO DROP OFFS
URL:https://enochtbicenter.org/event/rusch-community-park-15/
LOCATION:Round Table Pizza\, 7943 Greenback Lane\, Citrus Heights\,\, CA\, 95610
END:VEVENT
BEGIN:VEVENT
DTSTART;TZID=UTC:20230823T152000
DTEND;TZID=UTC:20230823T170000
DTSTAMP:20260424T083032
CREATED:20230724T041950Z
LAST-MODIFIED:20230724T043743Z
UID:1760-1692804000-1692810000@enochtbicenter.org
SUMMARY:FIRESIDE LANE BOWLING $2.00
DESCRIPTION:Support Group for Traumatic Brain injuries and Acquired Brain injuries\nfollowing the activity you’re welcome to join us for dinner.\nNo dropping off your SURVIVORS\nFun for the survivors and caregivers
URL:https://enochtbicenter.org/event/fireside-lane-bowling-2-00-12/
LOCATION:Bowling @ Fireside Lane\, 7901 Auburn Blvd\,\, Citrus Heights\, CA\, 95610\, United States
END:VEVENT
BEGIN:VEVENT
DTSTART;TZID=UTC:20230830T110000
DTEND;TZID=UTC:20230830T134500
DTSTAMP:20260424T083032
CREATED:20230724T044353Z
LAST-MODIFIED:20230827T035543Z
UID:1762-1693393200-1693403100@enochtbicenter.org
SUMMARY:Cinemark Roseville Galleria Mall/Mission Impossible
DESCRIPTION:Support Group for Traumatic Brain injuries and Acquired Brain injuries\nfollowing the activity you’re welcome to join us for dinner.\nNo dropping off your SURVIVORS\nFun for the survivors and caregivers\n$10.50 p.p
URL:https://enochtbicenter.org/event/will-be-determined-on-later-date/
LOCATION:Century Roseville 14 and XD\, 1191 Galleria Blvd\, Roseville\, CA\, 95678\, United States
END:VEVENT
END:VCALENDAR