BEGIN:VCALENDAR
VERSION:2.0
PRODID:-//Enoch TBI Center - ECPv6.15.18//NONSGML v1.0//EN
CALSCALE:GREGORIAN
METHOD:PUBLISH
X-WR-CALNAME:Enoch TBI Center
X-ORIGINAL-URL:https://enochtbicenter.org
X-WR-CALDESC:Events for Enoch TBI Center
REFRESH-INTERVAL;VALUE=DURATION:PT1H
X-Robots-Tag:noindex
X-PUBLISHED-TTL:PT1H
BEGIN:VTIMEZONE
TZID:UTC
BEGIN:STANDARD
TZOFFSETFROM:+0000
TZOFFSETTO:+0000
TZNAME:UTC
DTSTART:20220101T000000
END:STANDARD
END:VTIMEZONE
BEGIN:VEVENT
DTSTART;TZID=UTC:20231206T114500
DTEND;TZID=UTC:20231206T140000
DTSTAMP:20260424T023741
CREATED:20231204T032845Z
LAST-MODIFIED:20231204T032845Z
UID:1802-1701863100-1701871200@enochtbicenter.org
SUMMARY:Round Table Pizza
DESCRIPTION:Support Group for traumatic Brain injuries and Acquired brain injury\nNO DROP OFFS
URL:https://enochtbicenter.org/event/round-table-pizza-41/
LOCATION:Round Table Pizza\, 7943 Greenback Lane\, Citrus Heights\,\, CA\, 95610
END:VEVENT
BEGIN:VEVENT
DTSTART;TZID=UTC:20231213T152000
DTEND;TZID=UTC:20231213T164500
DTSTAMP:20260424T023741
CREATED:20231204T033055Z
LAST-MODIFIED:20231204T033055Z
UID:1804-1702480800-1702485900@enochtbicenter.org
SUMMARY:FIRESIDE LANE BOWLING $2.00
DESCRIPTION:Support Group for Traumatic Brain injuries and Acquired Brain injuries\nfollowing the activity you’re welcome to join us for dinner.\nNo dropping off your SURVIVORS\nFun for the survivors and caregivers
URL:https://enochtbicenter.org/event/fireside-lane-bowling-2-00-19/
LOCATION:Bowling @ Fireside Lane\, 7901 Auburn Blvd\,\, Citrus Heights\, CA\, 95610\, United States
END:VEVENT
BEGIN:VEVENT
DTSTART;TZID=UTC:20231220T130000
DTEND;TZID=UTC:20231220T153000
DTSTAMP:20260424T023741
CREATED:20231204T033600Z
LAST-MODIFIED:20231204T033600Z
UID:1806-1703077200-1703086200@enochtbicenter.org
SUMMARY:Round Table Pizza Christmas party Bring a $20.00 gift to pass
DESCRIPTION:Christmas party Bring a $20.00 gift to pass. There will be a raffle door prize.\nSupport Group for traumatic Brain injuries and Acquired brain injury\nNO DROP OFFS
URL:https://enochtbicenter.org/event/round-table-pizza-christmas-party-bring-a-20-00-gift-to-pass/
LOCATION:Round Table Pizza\, 7943 Greenback Lane\, Citrus Heights\,\, CA\, 95610
END:VEVENT
BEGIN:VEVENT
DTSTART;TZID=UTC:20231227T152000
DTEND;TZID=UTC:20231227T164500
DTSTAMP:20260424T023741
CREATED:20231221T023313Z
LAST-MODIFIED:20231221T023313Z
UID:1819-1703690400-1703695500@enochtbicenter.org
SUMMARY:FIRESIDE LANE BOWLING $2.00
DESCRIPTION:Support Group for Traumatic Brain injuries and Acquired Brain injuries\nfollowing the activity you’re welcome to join us for dinner.\nNo dropping off your SURVIVORS\nFun for the survivors and caregivers
URL:https://enochtbicenter.org/event/fireside-lane-bowling-2-00-20/
LOCATION:Bowling @ Fireside Lane\, 7901 Auburn Blvd\,\, Citrus Heights\, CA\, 95610\, United States
END:VEVENT
END:VCALENDAR