BEGIN:VCALENDAR
VERSION:2.0
PRODID:-//Enoch TBI Center - ECPv6.15.18//NONSGML v1.0//EN
CALSCALE:GREGORIAN
METHOD:PUBLISH
X-WR-CALNAME:Enoch TBI Center
X-ORIGINAL-URL:https://enochtbicenter.org
X-WR-CALDESC:Events for Enoch TBI Center
REFRESH-INTERVAL;VALUE=DURATION:PT1H
X-Robots-Tag:noindex
X-PUBLISHED-TTL:PT1H
BEGIN:VTIMEZONE
TZID:UTC
BEGIN:STANDARD
TZOFFSETFROM:+0000
TZOFFSETTO:+0000
TZNAME:UTC
DTSTART:20230101T000000
END:STANDARD
END:VTIMEZONE
BEGIN:VEVENT
DTSTART;TZID=UTC:20240403T114500
DTEND;TZID=UTC:20240403T134500
DTSTAMP:20260423T203713
CREATED:20240402T183004Z
LAST-MODIFIED:20240402T184301Z
UID:1849-1712144700-1712151900@enochtbicenter.org
SUMMARY:Round Table Pizza
DESCRIPTION:Support Group for traumatic Brain injuries and Acquired brain injury\nNO DROP OFFS
URL:https://enochtbicenter.org/event/round-table-pizza-48/
LOCATION:Round Table Pizza\, 7943 Greenback Lane\, Citrus Heights\,\, CA\, 95610
END:VEVENT
BEGIN:VEVENT
DTSTART;TZID=UTC:20240410T131500
DTEND;TZID=UTC:20240410T151500
DTSTAMP:20260423T203713
CREATED:20240402T185158Z
LAST-MODIFIED:20240407T145822Z
UID:1855-1712754900-1712762100@enochtbicenter.org
SUMMARY:Cinemark Roseville Galleria Mall Ghostbusters Frozen Empire
DESCRIPTION:Support Group for Traumatic Brain injuries and Acquired Brain injuries\nfollowing the activity you’re welcome to join us for dinner.\nNo dropping off your SURVIVORS\nFun for the survivors and caregivers\n$10.75 p.p
URL:https://enochtbicenter.org/event/cinemark-roseville-galleria-mall/
LOCATION:Century Roseville 14 and XD\, 1191 Galleria Blvd\, Roseville\, CA\, 95678\, United States
END:VEVENT
BEGIN:VEVENT
DTSTART;TZID=UTC:20240417T114500
DTEND;TZID=UTC:20240417T134500
DTSTAMP:20260423T203713
CREATED:20240402T183604Z
LAST-MODIFIED:20240402T183604Z
UID:1851-1713354300-1713361500@enochtbicenter.org
SUMMARY:Round Table Pizza
DESCRIPTION:Support Group for traumatic Brain injuries and Acquired brain injury\nNO DROP OFFS
URL:https://enochtbicenter.org/event/round-table-pizza-49/
LOCATION:Round Table Pizza\, 7943 Greenback Lane\, Citrus Heights\,\, CA\, 95610
END:VEVENT
BEGIN:VEVENT
DTSTART;TZID=UTC:20240424T152000
DTEND;TZID=UTC:20240424T164500
DTSTAMP:20260423T203713
CREATED:20240402T184743Z
LAST-MODIFIED:20240402T184842Z
UID:1853-1713972000-1713977100@enochtbicenter.org
SUMMARY:FIRESIDE LANE BOWLING $2.00
DESCRIPTION:Support Group for Traumatic Brain injuries and Acquired Brain injuries\nfollowing the activity you’re welcome to join us for dinner.\nNo dropping off your SURVIVORS\nFun for the survivors and caregivers
URL:https://enochtbicenter.org/event/fireside-lane-bowling-2-00-27/
LOCATION:Bowling @ Fireside Lane\, 7901 Auburn Blvd\,\, Citrus Heights\, CA\, 95610\, United States
END:VEVENT
END:VCALENDAR