BEGIN:VCALENDAR
VERSION:2.0
PRODID:-//Enoch TBI Center - ECPv6.15.18//NONSGML v1.0//EN
CALSCALE:GREGORIAN
METHOD:PUBLISH
X-ORIGINAL-URL:https://enochtbicenter.org
X-WR-CALDESC:Events for Enoch TBI Center
REFRESH-INTERVAL;VALUE=DURATION:PT1H
X-Robots-Tag:noindex
X-PUBLISHED-TTL:PT1H
BEGIN:VTIMEZONE
TZID:UTC
BEGIN:STANDARD
TZOFFSETFROM:+0000
TZOFFSETTO:+0000
TZNAME:UTC
DTSTART:20230101T000000
END:STANDARD
END:VTIMEZONE
BEGIN:VEVENT
DTSTART;TZID=UTC:20240703T114500
DTEND;TZID=UTC:20240703T134500
DTSTAMP:20260423T163740
CREATED:20240702T032742Z
LAST-MODIFIED:20240702T032742Z
UID:1886-1720007100-1720014300@enochtbicenter.org
SUMMARY:Round Table Pizza
DESCRIPTION:Support Group for traumatic Brain injuries and Acquired brain injuryNO DROP OFFS
URL:https://enochtbicenter.org/event/round-table-pizza-53/
LOCATION:Round Table Pizza\, 7943 Greenback Lane\, Citrus Heights\,\, CA\, 95610
END:VEVENT
BEGIN:VEVENT
DTSTART;TZID=UTC:20240710T152000
DTEND;TZID=UTC:20240710T164500
DTSTAMP:20260423T163741
CREATED:20240702T033007Z
LAST-MODIFIED:20240702T033007Z
UID:1888-1720624800-1720629900@enochtbicenter.org
SUMMARY:FIRESIDE LANE BOWLING $2.00
DESCRIPTION:Support Group for Traumatic Brain injuries and Acquired Brain injuriesfollowing the activity you’re welcome to join us for dinner.No dropping off your SURVIVORSFun for the survivors and caregivers
URL:https://enochtbicenter.org/event/fireside-lane-bowling-2-00-33/
LOCATION:Bowling @ Fireside Lane\, 7901 Auburn Blvd\,\, Citrus Heights\, CA\, 95610\, United States
END:VEVENT
BEGIN:VEVENT
DTSTART;TZID=UTC:20240717T132000
DTEND;TZID=UTC:20240717T152000
DTSTAMP:20260423T163741
CREATED:20240702T033340Z
LAST-MODIFIED:20240716T153120Z
UID:1890-1721222400-1721229600@enochtbicenter.org
SUMMARY:Cinemark Roseville Galleria Mall and XD Fly Me to the Moon
DESCRIPTION:Support Group for Traumatic Brain injuries and Acquired Brain injuriesfollowing the activity you’re welcome to join us for dinner.No dropping off your SURVIVORSFun for the survivors and caregivers$13.00 p.p
URL:https://enochtbicenter.org/event/rusch-community-park-19/
LOCATION:Century Roseville 14 and XD\, 1191 Galleria Blvd\, Roseville\, CA\, 95678\, United States
END:VEVENT
BEGIN:VEVENT
DTSTART;TZID=UTC:20240724T152000
DTEND;TZID=UTC:20240724T164500
DTSTAMP:20260423T163741
CREATED:20240702T033554Z
LAST-MODIFIED:20240702T033554Z
UID:1893-1721834400-1721839500@enochtbicenter.org
SUMMARY:FIRESIDE LANE BOWLING $2.00
DESCRIPTION:Support Group for Traumatic Brain injuries and Acquired Brain injuriesfollowing the activity you’re welcome to join us for dinner.No dropping off your SURVIVORSFun for the survivors and caregivers
URL:https://enochtbicenter.org/event/fireside-lane-bowling-2-00-34/
LOCATION:Fireside Lane Bowling\, 7901 Auburn Blvd\,\, Citrus Heights\, CA\, 95610\, United States
END:VEVENT
BEGIN:VEVENT
DTSTART;TZID=UTC:20240731T120000
DTEND;TZID=UTC:20240731T143000
DTSTAMP:20260423T163741
CREATED:20240702T033804Z
LAST-MODIFIED:20240726T195705Z
UID:1895-1722427200-1722436200@enochtbicenter.org
SUMMARY:Cinemark Roseville Galleria Mall and XD (Roseville\, CA)
DESCRIPTION:Support Group for Traumatic Brain injuries and Acquired Brain injuriesfollowing the activity you’re welcome to join us for dinner.No dropping off your SURVIVORSFun for the survivors and caregivers$10.75 p.p
URL:https://enochtbicenter.org/event/cinemark-roseville-galleria-mall-and-xd-roseville-ca-2/
LOCATION:Century Roseville 14 and XD\, 1191 Galleria Blvd\, Roseville\, CA\, 95678\, United States
END:VEVENT
BEGIN:VEVENT
DTSTART;TZID=UTC:20240731T131000
DTEND;TZID=UTC:20240731T141000
DTSTAMP:20260423T163741
CREATED:20240726T195320Z
LAST-MODIFIED:20240726T195320Z
UID:1901-1722431400-1722435000@enochtbicenter.org
SUMMARY:Cinemark Roseville Galleria Mall and XD Twisters
DESCRIPTION:Support Group for Traumatic Brain injuries and Acquired Brain injuriesfollowing the activity you’re welcome to join us for dinner.No dropping off your SURVIVORSFun for the survivors and caregivers$13.00 p.p
URL:https://enochtbicenter.org/event/cinemark-roseville-galleria-mall-and-xd-twisters/
LOCATION:Century Roseville 14 and XD\, 1191 Galleria Blvd\, Roseville\, CA\, 95678\, United States
END:VEVENT
END:VCALENDAR