BEGIN:VCALENDAR
VERSION:2.0
PRODID:-//Enoch TBI Center - ECPv6.15.18//NONSGML v1.0//EN
CALSCALE:GREGORIAN
METHOD:PUBLISH
X-ORIGINAL-URL:https://enochtbicenter.org
X-WR-CALDESC:Events for Enoch TBI Center
REFRESH-INTERVAL;VALUE=DURATION:PT1H
X-Robots-Tag:noindex
X-PUBLISHED-TTL:PT1H
BEGIN:VTIMEZONE
TZID:UTC
BEGIN:STANDARD
TZOFFSETFROM:+0000
TZOFFSETTO:+0000
TZNAME:UTC
DTSTART:20240101T000000
END:STANDARD
END:VTIMEZONE
BEGIN:VEVENT
DTSTART;TZID=UTC:20251210T152000
DTEND;TZID=UTC:20251210T164500
DTSTAMP:20260422T155934
CREATED:20251210T171905Z
LAST-MODIFIED:20251210T171905Z
UID:2066-1765380000-1765385100@enochtbicenter.org
SUMMARY:FIRESIDE LANE BOWLING $2.00
DESCRIPTION:Support Group for Traumatic Brain injuries and Acquired Brain injuriesfollowing the activity you’re welcome to join us for dinner.No dropping off your SURVIVORSFun for the survivors and caregiver
URL:https://enochtbicenter.org/event/fireside-lane-bowling-2-00-63/
LOCATION:Bowling @ Fireside Lane\, 7901 Auburn Blvd\,\, Citrus Heights\, CA\, 95610\, United States
END:VEVENT
BEGIN:VEVENT
DTSTART;TZID=UTC:20251217T130000
DTEND;TZID=UTC:20251217T150000
DTSTAMP:20260422T155934
CREATED:20251210T172524Z
LAST-MODIFIED:20251210T172524Z
UID:2068-1765976400-1765983600@enochtbicenter.org
SUMMARY:Round Table Pizza Christmas party Bring a $25.00 gift to pass
DESCRIPTION:Christmas party Bring a $25.00 gift to pass. There will be a raffle door prize.Support Group for traumatic Brain injuries and Acquired brain injuryNO DROP OFFS
URL:https://enochtbicenter.org/event/round-table-pizza-christmas-party-bring-a-25-00-gift-to-pass/
LOCATION:Round Table Pizza\, 7943 Greenback Lane\, Citrus Heights\,\, CA\, 95610
END:VEVENT
BEGIN:VEVENT
DTSTART;TZID=UTC:20251224T013000
DTEND;TZID=UTC:20251224T020000
DTSTAMP:20260422T155934
CREATED:20251210T173603Z
LAST-MODIFIED:20251210T173603Z
UID:2070-1766539800-1766541600@enochtbicenter.org
SUMMARY:Close Christmas Eve
DESCRIPTION:
URL:https://enochtbicenter.org/event/close-christmas-eve/
LOCATION:CA
END:VEVENT
END:VCALENDAR